BEGIN:VCALENDAR
VERSION:2.0
PRODID:-//jEvents 2.0 for Joomla//EN
CALSCALE:GREGORIAN
METHOD:PUBLISH
BEGIN:VTIMEZONE
TZID:Europe/Berlin
END:VTIMEZONE
BEGIN:VEVENT
UID:7fa33770a44cb8b23676003566cfdc00
CATEGORIES:Brandenburg
CREATED:20211228T103655
SUMMARY:Zander
DESCRIPTION:Alles zum Zander findet ihr hier. (http://de.wikipedia.org/wiki/Zander)\n
X-ALT-DESC;FMTTYPE=text/html:<p><span style="font-size: 14pt;"><a title="Zander" href="http://de.wikiped
 ia.org/wiki/Zander" rel="alternate">Alles zum Zander findet ihr hier.</a></
 span></p>
DTSTAMP:20260423T124356
DTSTART;TZID=Europe/Berlin;VALUE=DATE:20330401
DTEND;TZID=Europe/Berlin;VALUE=DATE:20330601
SEQUENCE:0
TRANSP:OPAQUE
END:VEVENT
END:VCALENDAR